BEGIN:VCALENDAR
VERSION:2.0
PRODID:-//SKAC - ECPv6.15.20//NONSGML v1.0//EN
CALSCALE:GREGORIAN
METHOD:PUBLISH
X-WR-CALNAME:SKAC
X-ORIGINAL-URL:https://www.skac.hr
X-WR-CALDESC:Događaji za SKAC
REFRESH-INTERVAL;VALUE=DURATION:PT1H
X-Robots-Tag:noindex
X-PUBLISHED-TTL:PT1H
BEGIN:VTIMEZONE
TZID:Europe/Helsinki
BEGIN:DAYLIGHT
TZOFFSETFROM:+0200
TZOFFSETTO:+0300
TZNAME:EEST
DTSTART:20190331T010000
END:DAYLIGHT
BEGIN:STANDARD
TZOFFSETFROM:+0300
TZOFFSETTO:+0200
TZNAME:EET
DTSTART:20191027T010000
END:STANDARD
BEGIN:DAYLIGHT
TZOFFSETFROM:+0200
TZOFFSETTO:+0300
TZNAME:EEST
DTSTART:20200329T010000
END:DAYLIGHT
BEGIN:STANDARD
TZOFFSETFROM:+0300
TZOFFSETTO:+0200
TZNAME:EET
DTSTART:20201025T010000
END:STANDARD
BEGIN:DAYLIGHT
TZOFFSETFROM:+0200
TZOFFSETTO:+0300
TZNAME:EEST
DTSTART:20210328T010000
END:DAYLIGHT
BEGIN:STANDARD
TZOFFSETFROM:+0300
TZOFFSETTO:+0200
TZNAME:EET
DTSTART:20211031T010000
END:STANDARD
END:VTIMEZONE
BEGIN:VTIMEZONE
TZID:Europe/Paris
BEGIN:DAYLIGHT
TZOFFSETFROM:+0100
TZOFFSETTO:+0200
TZNAME:CEST
DTSTART:20190331T010000
END:DAYLIGHT
BEGIN:STANDARD
TZOFFSETFROM:+0200
TZOFFSETTO:+0100
TZNAME:CET
DTSTART:20191027T010000
END:STANDARD
BEGIN:DAYLIGHT
TZOFFSETFROM:+0100
TZOFFSETTO:+0200
TZNAME:CEST
DTSTART:20200329T010000
END:DAYLIGHT
BEGIN:STANDARD
TZOFFSETFROM:+0200
TZOFFSETTO:+0100
TZNAME:CET
DTSTART:20201025T010000
END:STANDARD
BEGIN:DAYLIGHT
TZOFFSETFROM:+0100
TZOFFSETTO:+0200
TZNAME:CEST
DTSTART:20210328T010000
END:DAYLIGHT
BEGIN:STANDARD
TZOFFSETFROM:+0200
TZOFFSETTO:+0100
TZNAME:CET
DTSTART:20211031T010000
END:STANDARD
END:VTIMEZONE
BEGIN:VEVENT
DTSTART;TZID=Europe/Helsinki:20201120T203000
DTEND;TZID=Europe/Helsinki:20201120T220000
DTSTAMP:20260425T214015
CREATED:20201117T210947Z
LAST-MODIFIED:20201117T210947Z
UID:36075-1605904200-1605909600@www.skac.hr
SUMMARY:Misa mladih
DESCRIPTION:ČITANJA:\n\nOtk 10\, 8-11; Ps 119\, 14.24.72.103.111.131\nLk 19\, 45-48\n\n\nOd Doma Božjega načiniste pećinu razbojničku.\n\n\nČitanje svetog Evanđelja po Luki\n\nU ono vrijeme: Uđe Isus u Hram i poče izgoniti prodavače. Kaže im: »Pisano je: Dom moj bit će Dom molitve\, a vi od njega načiniste pećinu razbojničku!«\nI danomice naučavaše u Hramu.\nA glavari su svećenički i pismoznanci tražili kako da ga pogube\, a tako i prvaci narodni\, ali nikako naći što da učine jer je sav narod visio o njegovoj riječi.\nRiječ Gospodnja.\n\n\nOvisimo i mi o Njegovoj riječi! Vidimo se i ovaj petak u 20.30 sati na Misi mladih!
URL:https://www.skac.hr/event/misa-mladih-6/
LOCATION:Velika dvorana\, Palmotićeva 33\, Palmotićeva 33\, Zagreb\, Croatia (Local Name: Hrvatska)
CATEGORIES:misa mladih,SKAC Palma
ATTACH;FMTTYPE=image/png:https://www.skac.hr/wp-content/uploads/2020/11/Misa-mladih-20.-11.-cover.png
ORGANIZER;CN="SKAC Palma":MAILTO:skac@skac.hr
END:VEVENT
BEGIN:VEVENT
DTSTART;TZID=Europe/Helsinki:20201106T203000
DTEND;TZID=Europe/Helsinki:20201106T220000
DTSTAMP:20260425T214015
CREATED:20201103T202832Z
LAST-MODIFIED:20201103T202832Z
UID:35970-1604694600-1604700000@www.skac.hr
SUMMARY:Misa mladih
DESCRIPTION:ČITANJA:\nFil 3\, 17 – 4\, 1; Ps 122\, 1-5\n\nEVANĐELJE:\nLk 16\, 1-8\n\n\nSinovi su ovoga svijeta snalažljiviji prema svojima od sinova svjetlosti.\n\n\nČitanje svetog Evanđelja po Luki\n\nU ono vrijeme: Govoraše Isus svojim učenicima: »Bijaše neki bogat čovjek koji je imao upravitelja. Ovaj je bio optužen pred njim kao da mu rasipa imanje. On ga pozva pa mu reče: ‘Što to čujem o tebi? Položi račun o svom upravljanju jer više ne možeš biti upravitelj!’ Nato upravitelj reče u sebi: ‘Što da učinim kad mi gospodar moj oduzima upravu? Kopati? Nemam snage. Prositi? Stidim se. Znam što ću da me prime u svoje kuće kad budem maknut s uprave.’«\n»I pozva dužnike svoga gospodara\, jednog po jednog. Upita prvoga: ‘Koliko duguješ gospodaru mojemu?’ On reče: ‘Sto bata ulja.’ A on će mu: ‘Uzmi svoju zadužnicu\, sjedni brzo\, napiši pedeset.’ Zatim reče drugomu: ‘A ti\, koliko ti duguješ?’ On odgovori: ‘Sto kora pšenice.’ Kaže mu: ‘Uzmi svoju zadužnicu i napiši osamdeset.’«\n»I pohvali gospodar nepoštenog upravitelja što snalažljivo postupi jer sinovi su ovoga svijeta snalažljiviji prema svojima od sinova svjetlosti.«\nRiječ Gospodnja.\n\nVidimo se i ovaj petak na Misi mladih\, u Velikoj dvorani\, u dvorištu Palme\, a do tada\, budimo snalažljivi!
URL:https://www.skac.hr/event/misa-mladih-5/
LOCATION:Velika dvorana\, Palmotićeva 33\, Palmotićeva 33\, Zagreb\, Croatia (Local Name: Hrvatska)
CATEGORIES:misa mladih,SKAC Palma
ATTACH;FMTTYPE=image/png:https://www.skac.hr/wp-content/uploads/2020/11/Misa-mladih-06.-11.-cover.png
ORGANIZER;CN="SKAC Palma":MAILTO:skac@skac.hr
END:VEVENT
BEGIN:VEVENT
DTSTART;TZID=Europe/Helsinki:20201030T203000
DTEND;TZID=Europe/Helsinki:20201030T220000
DTSTAMP:20260425T214015
CREATED:20201027T195959Z
LAST-MODIFIED:20201027T195959Z
UID:35906-1604089800-1604095200@www.skac.hr
SUMMARY:Misa mladih
DESCRIPTION:ČITANJA:\nFil 1\, 1-11; Ps 111\, 1-6\n\nEVANĐELJE:\nLk 14\, 1-6\n\n\nAko nekom od vas sin ili vol padne u bunar\, neće li ga izvući i u dan subotni?\n\n\nČitanje svetog Evanđelja po Luki\n\nJedne subote dođe Isus u kuću nekoga prvaka farizejskog na objed. A oni ga vrebahu. Kad evo: pred njim neki čovjek koji je imao vodenu bolest. Nato Isus upita zakonoznance i farizeje: »Je li dopušteno subotom liječiti ili nije?« A oni mukom ponikoše. On ga dotaknu\, izliječi i otpusti. A njima reče: »Ako komu od vas sin ili vol padne u bunar\, neće li ga brže bolje izvući i u dan subotni?« I ne mogoše mu na to odgovoriti.\nRiječ Gospodnja.\n\nMisa mladih će se ovaj petak održavati redovno\, uz pridržavanje mjera Nacionalnog stožera.\n\nVidimo se u petak\, u 20.30 sati\, u Velikoj dvorani\, u dvorištu Palme!
URL:https://www.skac.hr/event/misa-mladih-4/
LOCATION:Velika dvorana\, Palmotićeva 33\, Palmotićeva 33\, Zagreb\, Croatia (Local Name: Hrvatska)
CATEGORIES:misa mladih,SKAC Palma
ATTACH;FMTTYPE=image/png:https://www.skac.hr/wp-content/uploads/2020/10/Misa-mladih-30.-10.-cover.png
ORGANIZER;CN="SKAC Palma":MAILTO:skac@skac.hr
END:VEVENT
BEGIN:VEVENT
DTSTART;TZID=Europe/Helsinki:20201023T203000
DTEND;TZID=Europe/Helsinki:20201024T060000
DTSTAMP:20260425T214015
CREATED:20201020T175748Z
LAST-MODIFIED:20201021T172248Z
UID:35793-1603485000-1603519200@www.skac.hr
SUMMARY:Misa mladih i cjelonoćno bdjenje
DESCRIPTION:ČITANJA:\nEf 4\, 1-6; Ps 24\, 1-4b.5-6\n\nEVANĐELJE:\nLk 12\, 54-59\n\n\nLice zemlje i neba umijete rasuditi\, kako onda ovo vrijeme ne rasuđujete?\n\n\nČitanje svetog Evanđelja po Luki\nU ono vrijeme: Reče Isus mnoštvu: »Kad opazite da se oblak diže na zapadu\, odmah kažete: ‘Kiša će!’ I bude tako. Kad zapuše južnjak\, kažete: ‘Bit će vrućine!’ I bude. Licemjeri! Lice zemlje i neba umijete rasuditi\, kako onda ovo vrijeme ne rasuđujete?«\n»Zašto sami od sebe ne sudite što je pravo? Kad s protivnikom ideš glavaru\, na putu sve uloži da ga se oslobodiš pa te ne odvuče k sucu. Sudac će te predati izvršitelju\, a izvršitelj baciti u tamnicu. Kažem ti: nećeš izići odande dok ne isplatiš do posljednjeg novčića.«\nRiječ Gospodnja.\n\nMolimo da umijemo rasuditi i ovaj petak na Misi mladih\, a nakon Mise ostanite na cjelonoćnom bdjenju koje ćemo prikazati za životna zvanja.\n20.30 h Misa mladih\n22.00 – 6.00 h Cjelonoćno bdjenje\nVidimo se!
URL:https://www.skac.hr/event/misa-mladih-i-cjelonocno-bdjenje/
LOCATION:Velika dvorana\, Palmotićeva 33\, Palmotićeva 33\, Zagreb\, Croatia (Local Name: Hrvatska)
CATEGORIES:misa mladih,SKAC Palma
ATTACH;FMTTYPE=image/png:https://www.skac.hr/wp-content/uploads/2020/10/Misa-mladih-23.-10.-cover-1.png
ORGANIZER;CN="SKAC Palma":MAILTO:skac@skac.hr
END:VEVENT
BEGIN:VEVENT
DTSTART;TZID=Europe/Helsinki:20201016T203000
DTEND;TZID=Europe/Helsinki:20201016T223000
DTSTAMP:20260425T214015
CREATED:20201013T173234Z
LAST-MODIFIED:20201013T173234Z
UID:35757-1602880200-1602887400@www.skac.hr
SUMMARY:Misa mladih
DESCRIPTION:ČITANJA:\nEf 1\, 11-14; Ps 33\, 1-2.4-5.12-13 \n\n\nLk 12\, 1-7 \n\n\n\n\n I vlasi su vam na glavi sve izbrojene. \n\n\n\n\nČitanje svetog Evanđelja po Luki \n\n\n\nU ono vrijeme: Kad se skupilo mnoštvo\, tisuće i tisuće\, te su jedni druge gazili\, poče Isus govoriti najprije svojim učenicima: \n\n»Čuvajte se kvasca farizejskoga\, \n\nto jest licemjerja. \n\nNišta nije skriveno \n\nšto se neće otkriti \n\nni tajno što se neće saznati. \n\nNaprotiv\, sve što u tami rekoste\, \n\nna svjetlu će se čuti; \n\ni što ste po skrovištima u uho šaptali\, \n\npropovijedat će se po krovovima.« \n\n»A kažem vama\, prijateljima svojim: ne bojte se onih koji ubijaju tijelo\, a nakon toga nemaju više što učiniti. Pokazat ću vam koga vam se bojati: onoga se bojte koji pošto ubije\, ima moć baciti u pakao. Da\, velim vam\, njega se bojte! Ne prodaje li se pet vrapčića za dva novčića? Pa ipak ni jednoga od njih Bog ne zaboravlja. A vama su i vlasi na glavi sve izbrojene. Ne bojte se! Vredniji ste nego mnogo vrabaca!« \n\nRiječ Gospodnja. \n\n\nNe bojmo se ni mi i dođimo na Misu mladih u petak\, u 20.30 sati\, u Veliku dvoranu\, u dvorištu Palme!\n\nVidimo se!
URL:https://www.skac.hr/event/misa-mladih-3/
LOCATION:Velika dvorana\, Palmotićeva 33\, Palmotićeva 33\, Zagreb\, Croatia (Local Name: Hrvatska)
CATEGORIES:misa mladih,SKAC Palma
ATTACH;FMTTYPE=image/png:https://www.skac.hr/wp-content/uploads/2020/10/Misa-mladih-16.-10.-cover-1.png
ORGANIZER;CN="SKAC Palma":MAILTO:skac@skac.hr
END:VEVENT
BEGIN:VEVENT
DTSTART;TZID=Europe/Helsinki:20201002T203000
DTEND;TZID=Europe/Helsinki:20201002T220000
DTSTAMP:20260425T214015
CREATED:20200929T180052Z
LAST-MODIFIED:20200929T155244Z
UID:35550-1601670600-1601676000@www.skac.hr
SUMMARY:Misa mladih
DESCRIPTION:ČITANJA:\nvl.: Izl 23\, 20-23; Ps 91\, 1-6.10-11; Mt 18\, 1-5.10 \nMt 18\, 1-5.10 \n\n\n\n\n Anđeli njihovi na nebu uvijek gledaju lice Oca mojega\, koji je na nebesima. \n\n\n\n\nČitanje svetog Evanđelja po Mateju \n\n\nU onaj čas pristupe učenici Isusu pa ga zapitaju: »Tko je\, dakle\, najveći u kraljevstvu nebeskom?« On dozove dijete\, postavi ga posred njih i reče: »Zaista\, kažem vam\, ako se ne obratite i ne postanete kao djeca\, nećete ući u kraljevstvo nebesko. Tko god se dakle ponizi kao ovo dijete\, taj je najveći u kraljevstvu nebeskom. I tko primi jedno ovakvo dijete u moje ime\, mene prima.«\n\n»Pazite da ne prezrete ni jednoga od ovih najmanjih jer\, kažem vam\, anđeli njihovi na nebu uvijek gledaju lice Oca mojega\, koji je na nebesima.« \n\nRiječ Gospodnja. \n\n\nDođi i budi kao dijete u petak\, u 20.30 sati\, u Velikoj dvorani\, u dvorištu Palme!
URL:https://www.skac.hr/event/misa-mladih/
LOCATION:Velika dvorana\, Palmotićeva 33\, Palmotićeva 33\, Zagreb\, Croatia (Local Name: Hrvatska)
CATEGORIES:misa mladih,SKAC Palma
ATTACH;FMTTYPE=image/png:https://www.skac.hr/wp-content/uploads/2020/09/Misa-mladih-2.-10.-cover.png
ORGANIZER;CN="SKAC Palma":MAILTO:skac@skac.hr
END:VEVENT
BEGIN:VEVENT
DTSTART;TZID=Europe/Helsinki:20200925T203000
DTEND;TZID=Europe/Helsinki:20200925T223000
DTSTAMP:20260425T214015
CREATED:20200921T212225Z
LAST-MODIFIED:20200921T214924Z
UID:35469-1601065800-1601073000@www.skac.hr
SUMMARY:Misa mladih: Zahvala za ljeto
DESCRIPTION:U prvim danima jeseni želimo se osvrnuti na ono što je iza nas i reći hvala. Hvala za vrijeme smijeha\, vrijeme mira\, vrijeme traženja i pronalaženja Boga u svemu i svakome. Odmarali smo se u nizinama i gorama\, plivali u dubinama. Božju hrid doticali na Modravama u tišini svijeta\, ali razgovoru duha. Za sve plodove u oblicima doživljaja\, susreta\, odluka\, spoznaja\, iskustva i prijateljstva želimo reći hvala.\nPozivamo te na prvu Misu mladih ove akademske godine\, Misu zahvale za ovogodišnje ljeto i druženje nakon\, na kojem možeš susresti poznata lica ili otkriti nova.ČITANJA: \nProp 3\, 1-11; Ps 144\, 1a.2abc-4; Lk 9\, 18-22 \n\n\nLk 9\, 18-22 \n\n\nTi si Krist — Pomazanik Božji! Treba da Sin Čovječji mnogo pretrpi. \n\n\nČitanje svetog Evanđelja po Luki \n\nDok je Isus jednom u osami molio\, bijahu s njim samo njegovi učenici. On ih upita: »Što govori svijet\, tko sam ja?« Oni odgovoriše: »Da si Ivan Krstitelj\, drugi: da si Ilija\, treći opet: da neki od drevnih proroka usta.« A on im reče: »A vi\, što vi kažete\, tko sam ja?« Petar prihvati i reče: »Krist — Pomazanik Božji!«\nA on im zaprijeti da toga nikomu ne kazuju.\nReče: »Treba da Sin Čovječji mnogo trpi\, da ga starješine\, glavari svećenički i pismoznanci odbace\, da bude ubijen i treći dan da uskrsne.«Riječ Gospodnja.
URL:https://www.skac.hr/event/misa-mladih-lk-9-18-22/
LOCATION:Velika dvorana\, Palmotićeva 33\, Palmotićeva 33\, Zagreb\, Croatia (Local Name: Hrvatska)
CATEGORIES:misa mladih,SKAC Palma
ATTACH;FMTTYPE=image/png:https://www.skac.hr/wp-content/uploads/2020/09/Copy-of-FACEBOOK_MM_21.09.png
END:VEVENT
BEGIN:VEVENT
DTSTART;TZID=Europe/Paris:20200626T203000
DTEND;TZID=Europe/Paris:20200626T223000
DTSTAMP:20260425T214015
CREATED:20200624T183005Z
LAST-MODIFIED:20200624T142043Z
UID:34721-1593203400-1593210600@www.skac.hr
SUMMARY:Misa mladih: Predajem ljeto Onome koji sve može
DESCRIPTION:Kako god uoči ljeta stali s ispitima\, s ljubavlju\, sa zdravljem… Kakve god planove mi skovali… najbolje je da sve izručimo u ruke Onome koji može sve. I za svaku stvar koju ćemo ga tražiti – zauzeti stav ovog gubavca: ako Ti to hoćeš?\n \n  \nČITANJA: \n2Kr 25\, 1-12; Ps 137\, 1-6; Mk 8\, 1-4 \nMt 8\, 1-4 \nAko hoćeš\, možeš me očistiti. \nČitanje svetog Evanđelja po Mateju \nKad je Isus sišao s gore\, pohrli za njim silan svijet. I gle\, pristupi neki gubavac\, pokloni mu se do zemlje i reče: »Gospodine\, ako hoćeš\, možeš me očistiti.« Isus pruži ruku i dotakne ga se govoreći: »Hoću\, očisti se!« I odmah se očisti od gube. Kaže mu Isus: »Pazi\, nikomu ne kazuj\, nego idi pokaži se svećeniku i prinesi dar što ga propisa Mojsije\, njima za svjedočanstvo.«\nRiječ Gospodnja.\n \n  \n  \nVidimo se u petak u 20.30h na posljednjoj Misi mladih ove godine u Velikoj dvorani\, u dvorištu Palme!
URL:https://www.skac.hr/event/misa-mladih-predajem-ljeto-onome-koji-sve-moze/
LOCATION:Velika dvorana\, Palmotićeva 33\, Palmotićeva 33\, Zagreb\, Croatia (Local Name: Hrvatska)
CATEGORIES:misa mladih,SKAC Palma
ATTACH;FMTTYPE=image/png:https://www.skac.hr/wp-content/uploads/2020/06/Copy-of-FACEBOOK_MM_26.06.png
END:VEVENT
BEGIN:VEVENT
DTSTART;TZID=Europe/Paris:20200612T203000
DTEND;TZID=Europe/Paris:20200612T223000
DTSTAMP:20260425T214015
CREATED:20200610T171400Z
LAST-MODIFIED:20200610T184556Z
UID:34636-1591993800-1592001000@www.skac.hr
SUMMARY:Misa mladih: Za čisto srce
DESCRIPTION:Molimo za čisto srce. Za čist pogled prema svemu stvorenom. Molit ćemo i za duhovna zvanja te bračne pozive. Molit ćemo za brakove u našim obiteljima i okolini. \nČITANJA: \n1Kr 19\, 9a.11-16; Ps 27\, 7-9.13-14; Mt 5\, 27-32 \nMt 5\, 27-32 \nTko god s požudom pogleda ženu\, već je učinio preljub.\n \nČitanje svetog Evanđelja po Mateju\n \nU ono vrijeme: Reče Isus svojim učenicima:\n»Ćuli ste da je rečeno:\nNe čini preljuba!\nA ja vam kažem:\nTko god s požudom pogleda ženu\,\nveć je s njome učinio preljub u srcu.\nAko te desno oko sablažnjava\,\niskopaj ga i baci od sebe.\nTa bolje je da ti propadne jedan od udova\,\nnego da ti cijelo tijelo bude bačeno u pakao.\nAko te desnica tvoja sablažnjava\,\nodsijeci je i baci od sebe.\nTa bolje je da ti propadne jedan od udova\,\nnego da ti cijelo tijelo ode u pakao.\nRečeno je također:\nTko otpusti svoju ženu\,\nneka joj dade otpusnicu.\nA ja vam kažem:\nTko god otpusti svoju ženu\n— osim zbog bludništva —\nnavodi je na preljub\ni tko se god otpuštenom oženi\,\nčini preljub.«\nRiječ Gospodnja.\n \n  \nVidimo se u 20.30h u Velikoj dvorani\, u dvorištu Palme! \n 
URL:https://www.skac.hr/event/misa-mladih-za-cisto-srce/
LOCATION:Velika dvorana\, Palmotićeva 33\, Palmotićeva 33\, Zagreb\, Croatia (Local Name: Hrvatska)
CATEGORIES:misa mladih,SKAC Palma
ATTACH;FMTTYPE=image/png:https://www.skac.hr/wp-content/uploads/2020/06/Cover-FACEBOOK_MM_12.06-1.png
ORGANIZER;CN="SKAC Palma":MAILTO:skac@skac.hr
END:VEVENT
BEGIN:VEVENT
DTSTART;TZID=Europe/Paris:20200529T203000
DTEND;TZID=Europe/Paris:20200529T223000
DTSTAMP:20260425T214015
CREATED:20200526T171835Z
LAST-MODIFIED:20200526T171835Z
UID:34491-1590784200-1590791400@www.skac.hr
SUMMARY:Misa Mladih: Svrha života
DESCRIPTION:Koja je tvoja svrha? Koji je smisao tvoga života? Znaš li? \n Ovaj petak molit ćemo za tu duboku spoznaju svrhe vlastitog života. Molit ćemo da svojim životom proslavljamo Stvoritelja. \nČITANJA: \n\nDj 25\, 13-21; Ps 103\, 1-2.11-12.19-ab; Iv 21\, 15-19 \n\nIv 21\, 15-19 \nPasi jaganjce moje\, pasi ovce moje! \n\nČitanje svetog Evanđelja po Ivanu\nKad se Isus ukazao svojim učenicima\, nakon doručka upita Šimuna Petra: »Šimune Ivanov\, ljubiš li me više nego ovi?« Odgovori mu: »Da\, Gospodine\, ti znaš da te volim.« Kaže mu: »Pasi jaganjce moje!« Upita ga po drugi put: »Šimune Ivanov\, ljubiš li me?« Odgovori mu: »Da\, Gospodine\, ti znaš da te volim!« Kaže mu: »Pasi ovce moje!« Upita ga treći put: »Šimune Ivanov\, voliš li me?« Ražalosti se Petar što ga upita treći put: »Voliš li me?« pa mu odgovori: »Gospodine\, ti sve znaš! Tebi je poznato da te volim.« Kaže mu Isus: »Pasi ovce moje!«\n»Zaista\, zaista\, kažem ti:\nDok si bio mlađi\,\nsam si se opasivao\ni hodio kamo si htio;\nali kad ostariš\,\nraširit ćeš ruke\ni drugi će te opasivati\ni voditi kamo nećeš.«\nA to mu reče nagovješćujući kakvom će smrću proslaviti Boga. Rekavši to doda: »Idi za mnom!«\nRiječ Gospodnja. \nVidimo se u Velikoj dvorani\, u dvorištu Palme!
URL:https://www.skac.hr/event/misa-mladih-svrha-zivota/
LOCATION:Velika dvorana\, Palmotićeva 33\, Palmotićeva 33\, Zagreb\, Croatia (Local Name: Hrvatska)
CATEGORIES:misa mladih,SKAC Palma
ATTACH;FMTTYPE=image/png:https://www.skac.hr/wp-content/uploads/2020/05/FACEBOOK-event_MM_29.-5..png
ORGANIZER;CN="SKAC Palma":MAILTO:skac@skac.hr
END:VEVENT
END:VCALENDAR