BEGIN:VCALENDAR
VERSION:2.0
PRODID:-//SKAC - ECPv6.15.20//NONSGML v1.0//EN
CALSCALE:GREGORIAN
METHOD:PUBLISH
X-WR-CALNAME:SKAC
X-ORIGINAL-URL:https://www.skac.hr
X-WR-CALDESC:Događaji za SKAC
REFRESH-INTERVAL;VALUE=DURATION:PT1H
X-Robots-Tag:noindex
X-PUBLISHED-TTL:PT1H
BEGIN:VTIMEZONE
TZID:Europe/Paris
BEGIN:DAYLIGHT
TZOFFSETFROM:+0100
TZOFFSETTO:+0200
TZNAME:CEST
DTSTART:20190331T010000
END:DAYLIGHT
BEGIN:STANDARD
TZOFFSETFROM:+0200
TZOFFSETTO:+0100
TZNAME:CET
DTSTART:20191027T010000
END:STANDARD
BEGIN:DAYLIGHT
TZOFFSETFROM:+0100
TZOFFSETTO:+0200
TZNAME:CEST
DTSTART:20200329T010000
END:DAYLIGHT
BEGIN:STANDARD
TZOFFSETFROM:+0200
TZOFFSETTO:+0100
TZNAME:CET
DTSTART:20201025T010000
END:STANDARD
BEGIN:DAYLIGHT
TZOFFSETFROM:+0100
TZOFFSETTO:+0200
TZNAME:CEST
DTSTART:20210328T010000
END:DAYLIGHT
BEGIN:STANDARD
TZOFFSETFROM:+0200
TZOFFSETTO:+0100
TZNAME:CET
DTSTART:20211031T010000
END:STANDARD
END:VTIMEZONE
BEGIN:VEVENT
DTSTART;TZID=Europe/Paris:20200215T193000
DTEND;TZID=Europe/Paris:20200215T230000
DTSTAMP:20260425T192534
CREATED:20200207T100417Z
LAST-MODIFIED:20200207T100417Z
UID:33160-1581795000-1581807600@www.skac.hr
SUMMARY:Valentinovski plesnjak
DESCRIPTION:Želiš nekako proslaviti Valentinovo\, ali ne znaš s kim i gdje? Ili imaš tu posebnu osobu u svom životu\, ali ne znate gdje proslaviti? Ne brinite\, SKAC još jednom nudi rješenje za životne izazove! \nU subotu 15.02. za vas organiziramo Valentinovski plesnjak s početkom u 19:30 u Velikoj dvorani SKAC-a. Ulaz je slobodan za sve mlade od 18 do 30 godina ? \nZa sve one koji nisu u vezi pripremili smo igru Valentinovske spajalice – ništa preozbiljno\, samo za zabavu ? \nTakođer će na plesnjaku biti i naše dobro poznato „kolo sreće“ s nekim novim izazovima – u svim igrama garantiramo umjerenost i čistoću koja priliči katoličkoj mladeži te vjerujemo da će se zabaviti i oni čija su uvjerenja starija od Drugog vatikanskog sabora. \n„Hej\, zašto se zove plesnjak a ni p od plesa?!“ – bez brige\, na glazbenom planu očekuju vas biseri domaće i tu i tamo strane romantične/ljubavne glazbe tako da ćete i vi ljubitelji plesa i glazbe imati priliku uživati. \nA kad se umorite od plesanja i igara\, za osvježenje bit će poslužena bezalkoholna pića (kako se ne bi previše „zaigrali“) po željenoj donaciji. \nVidimo se!
URL:https://www.skac.hr/event/valentinovski-plesnjak/
LOCATION:SKAC Palma\, Palmotićeva 31\, Zagreb\, Hrvatska\, 10000\, Croatia (Local Name: Hrvatska)
CATEGORIES:SKAC Palma
ATTACH;FMTTYPE=image/png:https://www.skac.hr/wp-content/uploads/2020/02/1.png
ORGANIZER;CN="SKAC Palma":MAILTO:skac@skac.hr
END:VEVENT
BEGIN:VEVENT
DTSTART;TZID=Europe/Paris:20200117T203000
DTEND;TZID=Europe/Paris:20200117T233000
DTSTAMP:20260425T192534
CREATED:20200114T142300Z
LAST-MODIFIED:20200116T105947Z
UID:32935-1579293000-1579303800@www.skac.hr
SUMMARY:Misa Mladih - Ljubav je domišljata
DESCRIPTION:ČITANJA:\nod dana:  1Sam 8\, 4-7.10-22a; Ps 89\, 16-19; Mk 2\, 1-12 \n\nTEMA: Ljubav je domišljata\n\nKoliko li je domišljata ljubav ove četvorice za prijatelja zbog kojeg su otvorili krov i spustili ga bliže k Isusu! Bezobzirna ljubav koju nije omela svjetina\, ni uvaženi gosti\, ni vjerski autoriteti. Koliko li je njihovo povjerenje u Isusa! Kako su samo snalažljivi u ljubavi za svoga bližnjega noseći ga Onome čija blizina liječi!\nDođimo i mi k Isusu ovoga petka noseći naše bližnje na Misu mladih.\nBudimo domišljati u ljubavi!
URL:https://www.skac.hr/event/misa-mladih-ljubav-je-domisljata/
LOCATION:Bazilika Srca Isusova\, Palmotićeva 31\, Zagreb\, Hrvatska\, 10000
CATEGORIES:misa mladih
ATTACH;FMTTYPE=image/png:https://www.skac.hr/wp-content/uploads/2020/01/1-3.png
ORGANIZER;CN="SKAC Palma":MAILTO:skac@skac.hr
END:VEVENT
END:VCALENDAR