BEGIN:VCALENDAR
VERSION:2.0
PRODID:-//SKAC - ECPv6.15.20//NONSGML v1.0//EN
CALSCALE:GREGORIAN
METHOD:PUBLISH
X-ORIGINAL-URL:https://www.skac.hr
X-WR-CALDESC:Događaji za SKAC
REFRESH-INTERVAL;VALUE=DURATION:PT1H
X-Robots-Tag:noindex
X-PUBLISHED-TTL:PT1H
BEGIN:VTIMEZONE
TZID:Europe/Paris
BEGIN:DAYLIGHT
TZOFFSETFROM:+0100
TZOFFSETTO:+0200
TZNAME:CEST
DTSTART:20190331T010000
END:DAYLIGHT
BEGIN:STANDARD
TZOFFSETFROM:+0200
TZOFFSETTO:+0100
TZNAME:CET
DTSTART:20191027T010000
END:STANDARD
BEGIN:DAYLIGHT
TZOFFSETFROM:+0100
TZOFFSETTO:+0200
TZNAME:CEST
DTSTART:20200329T010000
END:DAYLIGHT
BEGIN:STANDARD
TZOFFSETFROM:+0200
TZOFFSETTO:+0100
TZNAME:CET
DTSTART:20201025T010000
END:STANDARD
BEGIN:DAYLIGHT
TZOFFSETFROM:+0100
TZOFFSETTO:+0200
TZNAME:CEST
DTSTART:20210328T010000
END:DAYLIGHT
BEGIN:STANDARD
TZOFFSETFROM:+0200
TZOFFSETTO:+0100
TZNAME:CET
DTSTART:20211031T010000
END:STANDARD
END:VTIMEZONE
BEGIN:VEVENT
DTSTART;TZID=Europe/Paris:20200214T203000
DTEND;TZID=Europe/Paris:20200215T060000
DTSTAMP:20260425T211924
CREATED:20200210T201102Z
LAST-MODIFIED:20200211T113112Z
UID:33209-1581712200-1581746400@www.skac.hr
SUMMARY:Misa mladih i cjelonoćno bdjenje: Da ti se ljubav dogodi
DESCRIPTION:Ovaj petak tražit ćemo zagovor sv.Valentina da nam otvori oči i uši srca za Božju prisutnost. Molit ćemo da se otvorimo za Ljubav. Kako? Koliko? U čemu? S kim? Dođi i vidi! \nVečer nastavljamo cjelonoćnim bdjenjem na kojem molimo za pozive i životna zvanja. \nA plodove molitve možete „ubrati“ na subotnjem Valentinovskom plesnjaku u velikoj dvorani SKAC-a. \nČITANJA:\n1Kr 11\, 29-32; 12\, 19; Ps 81\, 10-15; Mk 7\, 31-37 \nMk 7\, 31-37\nGluhima daje čuti\, nijemima govoriti. \nČitanje svetog Evanđelja po Marku\nU ono vrijeme: Vrati se Isus iz krajeva tirskih pa preko Sidona dođe Galilejskom moru\, u krajeve dekapolske.\nDonesu mu nekoga gluhog mucavca pa ga zamole da stavi na nj ruku. On ga uzme nasamo od mnoštva\, utisne svoje prste u njegove uši\, zatim pljune i dotakne se njegova jezika. Upravi pogled u nebo\, uzdahne i kaže mu: »Effata!« — to će reći: »Otvori se!« I odmah mu se otvoriše uši i razdriješi spona jezika te stade govoriti razgovijetno.\nA Isus im zabrani da nikome ne kazuju. No što im je on više branio\, oni su to više razglašavali i preko svake mjere zadivljeni govorili: »Dobro je sve učinio! Gluhima daje čuti\, nijemima govoriti.«\nRiječ Gospodnja. \n \n 
URL:https://www.skac.hr/event/misa-mladih-i-cjelonocno-bdjenje-da-ti-se-ljubav-dogodi/
LOCATION:Bazilika Srca Isusova\, Palmotićeva 31\, Zagreb\, Hrvatska\, 10000
CATEGORIES:misa mladih,SKAC Palma
ATTACH;FMTTYPE=image/png:https://www.skac.hr/wp-content/uploads/2020/02/MMklanjanje-14.02.2020.-1.png
ORGANIZER;CN="SKAC Palma":MAILTO:skac@skac.hr
END:VEVENT
END:VCALENDAR