BEGIN:VCALENDAR
VERSION:2.0
PRODID:-//SKAC - ECPv6.15.20//NONSGML v1.0//EN
CALSCALE:GREGORIAN
METHOD:PUBLISH
X-ORIGINAL-URL:https://www.skac.hr
X-WR-CALDESC:Događaji za SKAC
REFRESH-INTERVAL;VALUE=DURATION:PT1H
X-Robots-Tag:noindex
X-PUBLISHED-TTL:PT1H
BEGIN:VTIMEZONE
TZID:Europe/Paris
BEGIN:DAYLIGHT
TZOFFSETFROM:+0100
TZOFFSETTO:+0200
TZNAME:CEST
DTSTART:20180325T010000
END:DAYLIGHT
BEGIN:STANDARD
TZOFFSETFROM:+0200
TZOFFSETTO:+0100
TZNAME:CET
DTSTART:20181028T010000
END:STANDARD
BEGIN:DAYLIGHT
TZOFFSETFROM:+0100
TZOFFSETTO:+0200
TZNAME:CEST
DTSTART:20190331T010000
END:DAYLIGHT
BEGIN:STANDARD
TZOFFSETFROM:+0200
TZOFFSETTO:+0100
TZNAME:CET
DTSTART:20191027T010000
END:STANDARD
BEGIN:DAYLIGHT
TZOFFSETFROM:+0100
TZOFFSETTO:+0200
TZNAME:CEST
DTSTART:20200329T010000
END:DAYLIGHT
BEGIN:STANDARD
TZOFFSETFROM:+0200
TZOFFSETTO:+0100
TZNAME:CET
DTSTART:20201025T010000
END:STANDARD
END:VTIMEZONE
BEGIN:VEVENT
DTSTART;TZID=Europe/Paris:20191127T180000
DTEND;TZID=Europe/Paris:20191129T190000
DTSTAMP:20260425T194428
CREATED:20191101T112421Z
LAST-MODIFIED:20191123T121252Z
UID:31451-1574877600-1575054000@www.skac.hr
SUMMARY:18. Godina SKAC Palme - trodnevna proslava
DESCRIPTION:Zahvalni smo što možemo biti zajedno i slaviti zajedno. Jer zajedno smo i stvarali. \nProšlo je 18 godina otkad je pater Luka Rađa sa zajednicom mladih pokrenuo SKAC. Danas\, na pragu svoje punoljetnosti\, SKAC je i dalje mjesto susreta\, mladih\, mladih i Boga. Jednostavnosti\, ljubavi\, herojstva i domišljatosti.\nBudite dio proslave naše punoljetnosti te nas svojom nazočnosti ohrabrite da i dalje radimo\, stvaramo i činimo jedni druge boljima. \nSRIJEDA – 27.11. – Rođendan SKAC-a\n—\n19:00 – Sveta misa zahvalnica\nBazilika Srca Isusova\, misu predvodi provincijal p. Dalibor Renić \n20:00 – Svečana proslava i zabavni program\nKroz interaktivnu šetnju SKAC-om predstaviti ćemo vam SKAC-ovu povijest\, njegovu sadašnju misiju i viziju budućnosti. Na vas čekaju i SKAC-ov spomenar\, butiga i još pregršt iznenađenja. \nČETVRTAK – 28.11. – PROMOCIJA KNJIGE\n—\n18:00 – Promocija knjige ”Šalabahter za život” \nČetvrtak je rezerviran za predstavljanje drugog izdanja knjige patera Luke Rađe Šalabahter za život. Knjiga u novom ruhu\, bezvremenska pitanja i uvijek aktualni odgovori za život. Kroz interaktivni odnos s publikom\, naši gosti (iznenađenja) odgovarat će na pitanja iz knjige\, a bit će prilike da i vi postavite pitanje! A svojim prisutstvom će nas razveseliti i dragi pater Luka Rađa. \nPETAK – 29.11. – VEČER ZABAVE\n—\n18:00 – KVIZ ”ISUSOVCI vs. SKACOVCI” \nTek kad ste pomislili da više ne postoji kviz na koji ste niste prijavili\, evo slijedi razočaranje! Spojili smo kremu katoličke kvizaške scene i sučelili ono što se malo tko usudio\, braću isusovce i skacovce. Osim što imate priliku sudjelovati na ovom povijesnom trenutku\, možda ćete se čak i smijati\, možda vam dođe da cupkate nogom ili da nazovete mamu i kažete da nećete doći doma nakon što se svijetla upale. \n20:30 MISA MLADIH \nRođendanski petak također će biti obilježen Misom mladih. Od kako je počela ne prestaje privlačiti nova lica bliže Srcu Isusovu\, a ovaj petak okupit će sve one koji su služili Gospodinu upravo kroz nju\, pjevajući\, ministrirajući. Pridruži nam se. \n22:00 PARTY ZA EKIPU \nKao šlag na tortu\, trodnevno rođendansko slavlje završavamo partyjem. Svoje glazbene i plesne vještine možeš darovati SKAC-u pjevajući karaoke i ovladavanjem plesnog podija. S ovog partyja zasigurno nećeš ići kući praznih ruku\, ako i ne osvojiš vrijednu nagradu na tomboli\, imat ćeš priliku susresti dugo neviđene\, srcu drage ljude s kojima si vrijeme provodio u SKACu.
URL:https://www.skac.hr/event/31451/
LOCATION:SKAC Palma\, Palmotićeva 31\, Zagreb\, Hrvatska\, 10000\, Croatia (Local Name: Hrvatska)
CATEGORIES:SKAC Palma
ATTACH;FMTTYPE=image/jpeg:https://www.skac.hr/wp-content/uploads/2019/11/73399744_2433550283360862_6547290382730788864_o.jpg
ORGANIZER;CN="SKAC Palma":MAILTO:skac@skac.hr
END:VEVENT
END:VCALENDAR